BEGIN:VCALENDAR
VERSION:2.0
PRODID:-//SRC-Sacramento.com - ECPv6.15.20//NONSGML v1.0//EN
CALSCALE:GREGORIAN
METHOD:PUBLISH
X-WR-CALNAME:SRC-Sacramento.com
X-ORIGINAL-URL:https://src-sacramento.com
X-WR-CALDESC:Events for SRC-Sacramento.com
REFRESH-INTERVAL;VALUE=DURATION:PT1H
X-Robots-Tag:noindex
X-PUBLISHED-TTL:PT1H
BEGIN:VTIMEZONE
TZID:America/Los_Angeles
BEGIN:DAYLIGHT
TZOFFSETFROM:-0800
TZOFFSETTO:-0700
TZNAME:PDT
DTSTART:20250309T100000
END:DAYLIGHT
BEGIN:STANDARD
TZOFFSETFROM:-0700
TZOFFSETTO:-0800
TZNAME:PST
DTSTART:20251102T090000
END:STANDARD
BEGIN:DAYLIGHT
TZOFFSETFROM:-0800
TZOFFSETTO:-0700
TZNAME:PDT
DTSTART:20260308T100000
END:DAYLIGHT
BEGIN:STANDARD
TZOFFSETFROM:-0700
TZOFFSETTO:-0800
TZNAME:PST
DTSTART:20261101T090000
END:STANDARD
BEGIN:DAYLIGHT
TZOFFSETFROM:-0800
TZOFFSETTO:-0700
TZNAME:PDT
DTSTART:20270314T100000
END:DAYLIGHT
BEGIN:STANDARD
TZOFFSETFROM:-0700
TZOFFSETTO:-0800
TZNAME:PST
DTSTART:20271107T090000
END:STANDARD
END:VTIMEZONE
BEGIN:VEVENT
DTSTART;TZID=America/Los_Angeles:20260313T150000
DTEND;TZID=America/Los_Angeles:20260313T170000
DTSTAMP:20260423T144255
CREATED:20260209T182048Z
LAST-MODIFIED:20260209T183033Z
UID:2204-1773414000-1773421200@src-sacramento.com
SUMMARY:Shamrock Social
DESCRIPTION:
URL:https://src-sacramento.com/event/shamrock-social/
LOCATION:Cogir of Stock Ranch\, 7418 Stock Ranch Road\, Citrus Heights\, California\, 95621
ATTACH;FMTTYPE=image/png:https://src-sacramento.com/wp-content/uploads/2026/02/Screenshot-2026-02-09-103010.png
ORGANIZER;CN="Crystal Hovar":MAILTO:Chovar@cogirusa.com
END:VEVENT
BEGIN:VEVENT
DTSTART;TZID=America/Los_Angeles:20260228T110000
DTEND;TZID=America/Los_Angeles:20260228T133000
DTSTAMP:20260423T144255
CREATED:20251029T193750Z
LAST-MODIFIED:20251029T193834Z
UID:2142-1772276400-1772285400@src-sacramento.com
SUMMARY:Parkinson's Revolution Indoor Cycling
DESCRIPTION:Parkinson’s Revolution will take place across the country on February 22\, 2025. Join us in-person at your studio location or virtually for a high energy ride that generates funds and awareness for Parkinson’s disease (PD).  \n\n\n\nCome ride for a reason and then celebrate the power of movement at our post-ride happy hour the Sweat Social! Friends\, family\, and members of the PD community are welcome to enjoy a short program and light refreshments immediately following the ride.
URL:https://src-sacramento.com/event/2142/
LOCATION:TEAMride\, 2701 N. Street STE C\, Sacramento\, California\, 95816\, United States
ORGANIZER;CN="Donna Cline":MAILTO:dcline@parkinson.org
END:VEVENT
BEGIN:VEVENT
DTSTART;TZID=America/Los_Angeles:20260226T140000
DTEND;TZID=America/Los_Angeles:20260226T160000
DTSTAMP:20260423T144255
CREATED:20260209T180503Z
LAST-MODIFIED:20260209T180505Z
UID:2189-1772114400-1772121600@src-sacramento.com
SUMMARY:Wine Social
DESCRIPTION:
URL:https://src-sacramento.com/event/wine-social/
LOCATION:Meadow Oaks of Roseville\, 930 Oak Ridge Rd\, Roseville\, California\, 95661\, United States
ORGANIZER;CN="Phil LeCompte":MAILTO:plecompte@islllc.com
END:VEVENT
BEGIN:VEVENT
DTSTART;TZID=America/Los_Angeles:20260217T150000
DTEND;TZID=America/Los_Angeles:20260217T170000
DTSTAMP:20260423T144255
CREATED:20260209T180843Z
LAST-MODIFIED:20260209T180844Z
UID:2196-1771340400-1771347600@src-sacramento.com
SUMMARY:Lunar New Year: Grab & Go
DESCRIPTION:
URL:https://src-sacramento.com/event/lunar-new-year-grab-go/
LOCATION:Oakmont of Fair Oaks\, 8484 Madison Ave\, Fair Oaks\, California\, 95628\, United States
ORGANIZER;CN="Angela Rios":MAILTO:amrios@mail.oakmontmg.com
END:VEVENT
BEGIN:VEVENT
DTSTART;TZID=America/Los_Angeles:20260217T083000
DTEND;TZID=America/Los_Angeles:20260217T100000
DTSTAMP:20260423T144255
CREATED:20260209T181413Z
LAST-MODIFIED:20260209T181415Z
UID:2201-1771317000-1771322400@src-sacramento.com
SUMMARY:Folsom/EDH OAC
DESCRIPTION:Please RSVP by Friday\, 2/13/26(Be sure to click the RSVP HERE tab below.Replies to this email are not received.)For any questions about this event\, please emailMaureen Simmons at Maureen@seniorcareauthority.com orTiffany Ramirez at Tiffany@artisanmind.org
URL:https://src-sacramento.com/event/folsom-edh-oac/
LOCATION:Almond Heights\, 8685 Greenback Ln\, Orangevale\, California\, 95662\, United States
ORGANIZER;CN="Tiffany Ramirez":MAILTO:tiffany@artisanmind.org
END:VEVENT
BEGIN:VEVENT
DTSTART;TZID=America/Los_Angeles:20260213T150000
DTEND;TZID=America/Los_Angeles:20260213T170000
DTSTAMP:20260423T144255
CREATED:20260209T182332Z
LAST-MODIFIED:20260209T182333Z
UID:2209-1770994800-1771002000@src-sacramento.com
SUMMARY:Open House
DESCRIPTION:
URL:https://src-sacramento.com/event/open-house/
LOCATION:Cogir of Stock Ranch\, 7418 Stock Ranch Road\, Citrus Heights\, California\, 95621
ORGANIZER;CN="Marcus Savedra":MAILTO:Marcus.Savedra@CogirUSA.com
END:VEVENT
BEGIN:VEVENT
DTSTART;TZID=America/Los_Angeles:20260211T083000
DTEND;TZID=America/Los_Angeles:20260211T100000
DTSTAMP:20260423T144255
CREATED:20260209T182859Z
LAST-MODIFIED:20260209T182901Z
UID:2214-1770798600-1770804000@src-sacramento.com
SUMMARY:Placer OAC
DESCRIPTION:
URL:https://src-sacramento.com/event/placer-oac-2/
LOCATION:Hearthstone Lodge Senior Residence\, 11490 Black Falcon Drive\, Auburn\, California\, 95602\, United States
ATTACH;FMTTYPE=image/png:https://src-sacramento.com/wp-content/uploads/2025/10/image-4.png
ORGANIZER;CN="Anne Hidalgo":MAILTO:Anne@AmorSeniorCare.com
END:VEVENT
END:VCALENDAR