BEGIN:VCALENDAR
VERSION:2.0
PRODID:-//SRC-Sacramento.com - ECPv6.15.20//NONSGML v1.0//EN
CALSCALE:GREGORIAN
METHOD:PUBLISH
X-WR-CALNAME:SRC-Sacramento.com
X-ORIGINAL-URL:https://src-sacramento.com
X-WR-CALDESC:Events for SRC-Sacramento.com
REFRESH-INTERVAL;VALUE=DURATION:PT1H
X-Robots-Tag:noindex
X-PUBLISHED-TTL:PT1H
BEGIN:VTIMEZONE
TZID:America/Los_Angeles
BEGIN:DAYLIGHT
TZOFFSETFROM:-0800
TZOFFSETTO:-0700
TZNAME:PDT
DTSTART:20250309T100000
END:DAYLIGHT
BEGIN:STANDARD
TZOFFSETFROM:-0700
TZOFFSETTO:-0800
TZNAME:PST
DTSTART:20251102T090000
END:STANDARD
BEGIN:DAYLIGHT
TZOFFSETFROM:-0800
TZOFFSETTO:-0700
TZNAME:PDT
DTSTART:20260308T100000
END:DAYLIGHT
BEGIN:STANDARD
TZOFFSETFROM:-0700
TZOFFSETTO:-0800
TZNAME:PST
DTSTART:20261101T090000
END:STANDARD
BEGIN:DAYLIGHT
TZOFFSETFROM:-0800
TZOFFSETTO:-0700
TZNAME:PDT
DTSTART:20270314T100000
END:DAYLIGHT
BEGIN:STANDARD
TZOFFSETFROM:-0700
TZOFFSETTO:-0800
TZNAME:PST
DTSTART:20271107T090000
END:STANDARD
END:VTIMEZONE
BEGIN:VEVENT
DTSTART;TZID=America/Los_Angeles:20260530T090000
DTEND;TZID=America/Los_Angeles:20260530T130000
DTSTAMP:20260423T043153
CREATED:20251029T193405Z
LAST-MODIFIED:20251029T193406Z
UID:2138-1780131600-1780146000@src-sacramento.com
SUMMARY:Moving Day Walk Sacramento
DESCRIPTION:It’s a passionate community united in honoring loved ones with Parkinson’s\, raising awareness about Parkinson’s disease and embracing the power of exercise – proven to help manage Parkinson’s symptoms. Your participation in Moving Day isn’t just about supporting the life-changing work of the Parkinson’s Foundation; it is about offering hope to everyone affected by this disease. This volunteer-led experience offers a unique opportunity to connect with others on similar journeys\, discover invaluable resources and foster meaningful connections.
URL:https://src-sacramento.com/event/moving-day-walk-sacramento/
LOCATION:Sutter’s Fort State Historic park\, 2701 L St\, Sacramento\, Ca\, 95816
ORGANIZER;CN="Donna Cline":MAILTO:dcline@parkinson.org
END:VEVENT
END:VCALENDAR